BEGIN:VCALENDAR
VERSION:2.0
PRODID:-//rssny.org//NONSGML kigkonsult.se iCalcreator 2.30.10//
CALSCALE:GREGORIAN
METHOD:PUBLISH
UID:f29b9169-74dd-4ed1-bdf1-e427d77156f1
X-WR-CALDESC:To register: https://rssny.org/class-forms/guided-meditation-w
 ith-barbara.html\n\nJoin us to learn the basics of guided meditation and t
 hen experience its calming effects firsthand in a short guided session. Al
 l levels welcome.
X-WR-RELCALID:306e690ca65013366229abbc70c61468
X-WR-TIMEZONE:America/New_York
BEGIN:VTIMEZONE
TZID:America/New_York
BEGIN:STANDARD
TZNAME:EST
DTSTART:20241103T020000
TZOFFSETFROM:-0400
TZOFFSETTO:-0500
RDATE:20251102T020000
RDATE:20261101T020000
END:STANDARD
BEGIN:DAYLIGHT
TZNAME:EDT
DTSTART:20250309T020000
TZOFFSETFROM:-0500
TZOFFSETTO:-0400
RDATE:20260308T020000
END:DAYLIGHT
END:VTIMEZONE
BEGIN:VEVENT
UID:0aec7649-eebe-45dc-9c75-023ed3e92bb3
DTSTAMP:20260421T122605Z
DESCRIPTION:To register: https://rssny.org/class-forms/guided-meditation-wi
 th-barbara.html\n\nJoin us to learn the basics of guided meditation and th
 en experience its calming effects firsthand in a short guided session. All
  levels welcome.
DTSTART;TZID=America/New_York:20250515T143000
DTEND;TZID=America/New_York:20250515T153000
LOCATION:https://rssny.org/class-forms/guided-meditation-with-barbara.html
SUMMARY:Discover Guided Meditation: Finding Calm in the Present Moment with
  Barbara (Hybrid)
END:VEVENT
END:VCALENDAR
