BEGIN:VCALENDAR
VERSION:2.0
PRODID:-//rssny.org//NONSGML kigkonsult.se iCalcreator 2.30.10//
CALSCALE:GREGORIAN
METHOD:PUBLISH
UID:f18ce610-ec53-4b82-b1db-26bc1f148086
X-WR-CALDESC:
X-WR-RELCALID:30319189cfa606a097abe73b0323d575
X-WR-TIMEZONE:America/New_York
BEGIN:VTIMEZONE
TZID:America/New_York
BEGIN:STANDARD
TZNAME:EST
DTSTART:20241103T020000
TZOFFSETFROM:-0400
TZOFFSETTO:-0500
RDATE:20251102T020000
RDATE:20261101T020000
END:STANDARD
BEGIN:DAYLIGHT
TZNAME:EDT
DTSTART:20250309T020000
TZOFFSETFROM:-0500
TZOFFSETTO:-0400
RDATE:20260308T020000
END:DAYLIGHT
END:VTIMEZONE
BEGIN:VEVENT
UID:041d3b19-ef06-4f89-8056-4bb81f57982b
DTSTAMP:20260423T103507Z
DESCRIPTION:
DTSTART;TZID=America/New_York:20250515T110000
DTEND;TZID=America/New_York:20250515T120000
LOCATION:
SUMMARY:Folk Dancing - IN CENTER CANCELED
END:VEVENT
END:VCALENDAR
