BEGIN:VCALENDAR
VERSION:2.0
PRODID:-//rssny.org//NONSGML kigkonsult.se iCalcreator 2.30.10//
CALSCALE:GREGORIAN
METHOD:PUBLISH
UID:eef23dc0-e110-4e1b-bc3a-1c383078bebf
X-WR-CALDESC:Weekly non-competitive bridge game
X-WR-RELCALID:8f1c57d16273b75feac314263236f3e4
X-WR-TIMEZONE:America/New_York
BEGIN:VTIMEZONE
TZID:America/New_York
BEGIN:STANDARD
TZNAME:EST
DTSTART:20241103T020000
TZOFFSETFROM:-0400
TZOFFSETTO:-0500
RDATE:20251102T020000
RDATE:20261101T020000
END:STANDARD
BEGIN:DAYLIGHT
TZNAME:EDT
DTSTART:20250309T020000
TZOFFSETFROM:-0500
TZOFFSETTO:-0400
RDATE:20260308T020000
END:DAYLIGHT
END:VTIMEZONE
BEGIN:VEVENT
UID:6682fe34-5d98-40d3-83f5-7aea7ce7443c
DTSTAMP:20260423T102937Z
DESCRIPTION:Weekly non-competitive bridge game
DTSTART;TZID=America/New_York:20250509T140000
DTEND;TZID=America/New_York:20250509T163000
LOCATION:
SUMMARY:Leisure Games Bridge (In Center)
END:VEVENT
END:VCALENDAR
