BEGIN:VCALENDAR
VERSION:2.0
PRODID:-//rssny.org//NONSGML kigkonsult.se iCalcreator 2.30.10//
CALSCALE:GREGORIAN
METHOD:PUBLISH
UID:197e1472-ccb1-4282-bdaa-7c5c5fa784ea
X-WR-CALDESC:
X-WR-RELCALID:a32e1e4a230d9aebbcac903a97368795
X-WR-TIMEZONE:America/New_York
BEGIN:VTIMEZONE
TZID:America/New_York
BEGIN:STANDARD
TZNAME:EST
DTSTART:20241103T020000
TZOFFSETFROM:-0400
TZOFFSETTO:-0500
RDATE:20251102T020000
RDATE:20261101T020000
END:STANDARD
BEGIN:DAYLIGHT
TZNAME:EDT
DTSTART:20250309T020000
TZOFFSETFROM:-0500
TZOFFSETTO:-0400
RDATE:20260308T020000
END:DAYLIGHT
END:VTIMEZONE
BEGIN:VEVENT
UID:ea52bb93-b28f-46d9-96f8-e667ec628694
DTSTAMP:20260423T101048Z
DESCRIPTION:
DTSTART;TZID=America/New_York:20250508T130000
DTEND;TZID=America/New_York:20250508T140000
LOCATION:
SUMMARY:Folk Dancing - IN CENTER
END:VEVENT
END:VCALENDAR
