BEGIN:VCALENDAR
VERSION:2.0
PRODID:-//rssny.org//NONSGML kigkonsult.se iCalcreator 2.30.10//
CALSCALE:GREGORIAN
METHOD:PUBLISH
UID:068bfebd-52d2-4ba9-b377-8d39dfeb51a4
X-WR-CALDESC:If you are interested in joining this group send an email to i
 nfo@rssny.org or call 718.884.5900
X-WR-RELCALID:0e209ef0ac8220a6a57c0449077c8411
X-WR-TIMEZONE:America/New_York
BEGIN:VTIMEZONE
TZID:America/New_York
BEGIN:STANDARD
TZNAME:EST
DTSTART:20241103T020000
TZOFFSETFROM:-0400
TZOFFSETTO:-0500
RDATE:20251102T020000
RDATE:20261101T020000
END:STANDARD
BEGIN:DAYLIGHT
TZNAME:EDT
DTSTART:20250309T020000
TZOFFSETFROM:-0500
TZOFFSETTO:-0400
RDATE:20260308T020000
END:DAYLIGHT
END:VTIMEZONE
BEGIN:VEVENT
UID:af2358e1-3b31-44e3-90d4-1c18878575c7
DTSTAMP:20260423T101136Z
DESCRIPTION:If you are interested in joining this group send an email to in
 fo@rssny.org or call 718.884.5900
DTSTART;TZID=America/New_York:20250507T130000
DTEND;TZID=America/New_York:20250507T140000
LOCATION:
SUMMARY:Caregivers Support Group  (Hybrid)
END:VEVENT
END:VCALENDAR
