BEGIN:VCALENDAR
VERSION:2.0
PRODID:-//rssny.org//NONSGML kigkonsult.se iCalcreator 2.30.10//
CALSCALE:GREGORIAN
METHOD:PUBLISH
UID:5a07ece8-f6dc-49cf-bb51-1af49b5db59c
X-WR-CALDESC:
X-WR-RELCALID:52790740dfe61bf9eb5b893ec40cb29c
X-WR-TIMEZONE:America/New_York
BEGIN:VTIMEZONE
TZID:America/New_York
BEGIN:STANDARD
TZNAME:EST
DTSTART:20241103T020000
TZOFFSETFROM:-0400
TZOFFSETTO:-0500
RDATE:20251102T020000
RDATE:20261101T020000
END:STANDARD
BEGIN:DAYLIGHT
TZNAME:EDT
DTSTART:20250309T020000
TZOFFSETFROM:-0500
TZOFFSETTO:-0400
RDATE:20260308T020000
END:DAYLIGHT
END:VTIMEZONE
BEGIN:VEVENT
UID:90a0673e-d924-44ac-8cb4-a2f9eb1b5d59
DTSTAMP:20260423T101336Z
DESCRIPTION:
DTSTART;TZID=America/New_York:20250506T140000
DTEND;TZID=America/New_York:20250506T170000
LOCATION:
SUMMARY:Movies In Center:  Conclave
END:VEVENT
END:VCALENDAR
