BEGIN:VCALENDAR
VERSION:2.0
PRODID:-//rssny.org//NONSGML kigkonsult.se iCalcreator 2.30.10//
CALSCALE:GREGORIAN
METHOD:PUBLISH
UID:61e61100-ed51-449d-a464-c261f8980f79
X-WR-CALDESC:This class is in the center.\n\nLevel: Beginner\n\nThe session
  is led by Tabitha Rosa\, the RSS Tech Specialist and Digital Engagement C
 oordinator.
X-WR-RELCALID:8afa3df6189f171ae703400eade1b1a1
X-WR-TIMEZONE:America/New_York
BEGIN:VTIMEZONE
TZID:America/New_York
BEGIN:STANDARD
TZNAME:EST
DTSTART:20241103T020000
TZOFFSETFROM:-0400
TZOFFSETTO:-0500
RDATE:20251102T020000
RDATE:20261101T020000
END:STANDARD
BEGIN:DAYLIGHT
TZNAME:EDT
DTSTART:20250309T020000
TZOFFSETFROM:-0500
TZOFFSETTO:-0400
RDATE:20260308T020000
END:DAYLIGHT
END:VTIMEZONE
BEGIN:VEVENT
UID:b4dd367d-fedf-44d0-8444-0e177ac7e5b9
DTSTAMP:20260423T101310Z
DESCRIPTION:This class is in the center.\n\nLevel: Beginner\n\nThe session 
 is led by Tabitha Rosa\, the RSS Tech Specialist and Digital Engagement Co
 ordinator.
DTSTART;TZID=America/New_York:20250506T110000
DTEND;TZID=America/New_York:20250506T120000
LOCATION:
SUMMARY:Tech How-to's: Understanding Common Tech Icons (IN CENTER)
END:VEVENT
END:VCALENDAR
