BEGIN:VCALENDAR
VERSION:2.0
PRODID:-//rssny.org//NONSGML kigkonsult.se iCalcreator 2.30.10//
CALSCALE:GREGORIAN
METHOD:PUBLISH
UID:8ddf68e9-fbc8-4078-8538-459fc7a129e8
X-WR-CALDESC:\nJoin us for a hands-on AI expo featuring expert presentation
 s\, interactive exhibits\, and the latest in AI technology!\n\n10:00 AM – 
 10:15 AM | Opening Speech\n\n10:15 AM – 11:15 AM | Intro to Gemini (Google
 )\n\n11:30 AM – 12:30 PM | AI in Health & Wellness – Basic Prompts for Cha
 tGPT\n\n12:00 PM – 1:30 PM | Lunch Break\n\n1:30 PM – 2:30 PM | AI Scams: 
 Staying Safe in a Digital World\n\n2:45 PM - 3:45PM | Ai and Art
X-WR-RELCALID:8dfee42650a1fcdb94e0f8effdd4c041
X-WR-TIMEZONE:America/New_York
BEGIN:VTIMEZONE
TZID:America/New_York
BEGIN:STANDARD
TZNAME:EST
DTSTART:20241103T020000
TZOFFSETFROM:-0400
TZOFFSETTO:-0500
RDATE:20251102T020000
RDATE:20261101T020000
END:STANDARD
BEGIN:DAYLIGHT
TZNAME:EDT
DTSTART:20250309T020000
TZOFFSETFROM:-0500
TZOFFSETTO:-0400
RDATE:20260308T020000
END:DAYLIGHT
END:VTIMEZONE
BEGIN:VEVENT
UID:07323adf-1513-46b7-848f-5170f5319ec9
DTSTAMP:20260423T103508Z
DESCRIPTION:\nJoin us for a hands-on AI expo featuring expert presentations
 \, interactive exhibits\, and the latest in AI technology!\n\n10:00 AM – 1
 0:15 AM | Opening Speech\n\n10:15 AM – 11:15 AM | Intro to Gemini (Google)
 \n\n11:30 AM – 12:30 PM | AI in Health & Wellness – Basic Prompts for Chat
 GPT\n\n12:00 PM – 1:30 PM | Lunch Break\n\n1:30 PM – 2:30 PM | AI Scams: S
 taying Safe in a Digital World\n\n2:45 PM - 3:45PM | Ai and Art
DTSTART;TZID=America/New_York:20250503T100000
DTEND;TZID=America/New_York:20250503T153000
LOCATION:https://rssny.org/class-forms/tech-expo-2025.html
SUMMARY:Technology Expo : All about Artificial Intelligence (IN CENTER ONLY
 )
END:VEVENT
END:VCALENDAR
