BEGIN:VCALENDAR
VERSION:2.0
PRODID:-//rssny.org//NONSGML kigkonsult.se iCalcreator 2.30.10//
CALSCALE:GREGORIAN
METHOD:PUBLISH
UID:20eefb9b-a663-4e7f-9f1e-f4487ad05dca
X-WR-CALDESC:
X-WR-RELCALID:930118f627e20ae9b9a561b3a83505e1
X-WR-TIMEZONE:America/New_York
BEGIN:VTIMEZONE
TZID:America/New_York
BEGIN:STANDARD
TZNAME:EST
DTSTART:20241103T020000
TZOFFSETFROM:-0400
TZOFFSETTO:-0500
RDATE:20251102T020000
END:STANDARD
BEGIN:DAYLIGHT
TZNAME:EDT
DTSTART:20250309T020000
TZOFFSETFROM:-0500
TZOFFSETTO:-0400
RDATE:20260308T020000
END:DAYLIGHT
END:VTIMEZONE
BEGIN:VEVENT
UID:71540946-fd32-4961-95cf-4d2eccd68b49
DTSTAMP:20260423T120611Z
DESCRIPTION:
DTSTART;TZID=America/New_York:20250430T120000
DTEND;TZID=America/New_York:20250430T130000
LOCATION:
SUMMARY:Birthday Lunch (In Center)
END:VEVENT
END:VCALENDAR
