BEGIN:VCALENDAR
VERSION:2.0
PRODID:-//rssny.org//NONSGML kigkonsult.se iCalcreator 2.30.10//
CALSCALE:GREGORIAN
METHOD:PUBLISH
UID:474d9c17-b1b6-4b46-8772-40579f4db8d9
X-WR-CALDESC:Join us for breakfast at the Center!
X-WR-RELCALID:a97d8eefeb16917405d1556fb59fbc05
X-WR-TIMEZONE:America/New_York
BEGIN:VTIMEZONE
TZID:America/New_York
BEGIN:STANDARD
TZNAME:EST
DTSTART:20241103T020000
TZOFFSETFROM:-0400
TZOFFSETTO:-0500
RDATE:20251102T020000
END:STANDARD
BEGIN:DAYLIGHT
TZNAME:EDT
DTSTART:20250309T020000
TZOFFSETFROM:-0500
TZOFFSETTO:-0400
RDATE:20260308T020000
END:DAYLIGHT
END:VTIMEZONE
BEGIN:VEVENT
UID:3a0891d3-ef0d-4fd7-b27b-c956eb732fcd
DTSTAMP:20260423T121128Z
DESCRIPTION:Join us for breakfast at the Center!
DTSTART;TZID=America/New_York:20250430T090000
DTEND;TZID=America/New_York:20250430T100000
LOCATION:
SUMMARY:Breakfast Club (In Center)
END:VEVENT
END:VCALENDAR
