BEGIN:VCALENDAR
VERSION:2.0
PRODID:-//rssny.org//NONSGML kigkonsult.se iCalcreator 2.30.10//
CALSCALE:GREGORIAN
METHOD:PUBLISH
UID:32982bc9-2bfc-4c85-9062-9dc836ebbfa6
X-WR-CALDESC:
X-WR-RELCALID:950b1f37d3beeed880ee33e9ed920052
X-WR-TIMEZONE:America/New_York
BEGIN:VTIMEZONE
TZID:America/New_York
BEGIN:STANDARD
TZNAME:EST
DTSTART:20241103T020000
TZOFFSETFROM:-0400
TZOFFSETTO:-0500
RDATE:20251102T020000
END:STANDARD
BEGIN:DAYLIGHT
TZNAME:EDT
DTSTART:20250309T020000
TZOFFSETFROM:-0500
TZOFFSETTO:-0400
RDATE:20260308T020000
END:DAYLIGHT
END:VTIMEZONE
BEGIN:VEVENT
UID:485a33c1-83a8-4420-98ea-00bb9f3e8dc2
DTSTAMP:20260423T120258Z
DESCRIPTION:
DTSTART;TZID=America/New_York:20250421T130000
DTEND;TZID=America/New_York:20250421T140000
LOCATION:
SUMMARY:Current Events with Tim (In Center)
END:VEVENT
END:VCALENDAR
