BEGIN:VCALENDAR
VERSION:2.0
PRODID:-//rssny.org//NONSGML kigkonsult.se iCalcreator 2.30.10//
CALSCALE:GREGORIAN
METHOD:PUBLISH
UID:44836298-ef13-4e0f-8cde-3005fd4e4871
X-WR-CALDESC:Register here - https://rssny.org/class-forms/concerts-in-moti
 on.html\n\nListen to wonderful Motown music led by professional musicians.
  Great way to head into the weekend!
X-WR-RELCALID:3f0543b1ee1042bec0133ba9f963344e
X-WR-TIMEZONE:America/New_York
BEGIN:VTIMEZONE
TZID:America/New_York
BEGIN:STANDARD
TZNAME:EST
DTSTART:20241103T020000
TZOFFSETFROM:-0400
TZOFFSETTO:-0500
RDATE:20251102T020000
END:STANDARD
BEGIN:DAYLIGHT
TZNAME:EDT
DTSTART:20250309T020000
TZOFFSETFROM:-0500
TZOFFSETTO:-0400
RDATE:20260308T020000
END:DAYLIGHT
END:VTIMEZONE
BEGIN:VEVENT
UID:bd605709-147c-44f8-88ed-bfed82f4b0b5
DTSTAMP:20260423T121951Z
DESCRIPTION:Register here - https://rssny.org/class-forms/concerts-in-motio
 n.html\n\nListen to wonderful Motown music led by professional musicians. 
 Great way to head into the weekend!
DTSTART;TZID=America/New_York:20250418T140000
DTEND;TZID=America/New_York:20250418T150000
LOCATION:https://rssny.org/class-forms/concerts-in-motion.html
SUMMARY:Concerts in Motion: Celebration Fridays (ONLINE - This is not an RS
 S event)
END:VEVENT
END:VCALENDAR
