BEGIN:VCALENDAR
VERSION:2.0
PRODID:-//rssny.org//NONSGML kigkonsult.se iCalcreator 2.30.10//
CALSCALE:GREGORIAN
METHOD:PUBLISH
UID:239c4fe9-7284-4572-8e22-b7aeaeb0ff96
X-WR-CALDESC:
X-WR-RELCALID:6cc2e1f9332dcbaf6c66f9c26639b0cc
X-WR-TIMEZONE:America/New_York
BEGIN:VTIMEZONE
TZID:America/New_York
BEGIN:STANDARD
TZNAME:EST
DTSTART:20241103T020000
TZOFFSETFROM:-0400
TZOFFSETTO:-0500
RDATE:20251102T020000
END:STANDARD
BEGIN:DAYLIGHT
TZNAME:EDT
DTSTART:20250309T020000
TZOFFSETFROM:-0500
TZOFFSETTO:-0400
RDATE:20260308T020000
END:DAYLIGHT
END:VTIMEZONE
BEGIN:VEVENT
UID:2de8febe-8c5b-428d-abb8-ad1d9f0e3e57
DTSTAMP:20260423T120445Z
DESCRIPTION:
DTSTART;TZID=America/New_York:20250418T100000
DTEND;TZID=America/New_York:20250418T120000
LOCATION:No Registration Required
SUMMARY:Sculpture Studio (IN CENTER)
END:VEVENT
END:VCALENDAR
