BEGIN:VCALENDAR
VERSION:2.0
PRODID:-//rssny.org//NONSGML kigkonsult.se iCalcreator 2.30.10//
CALSCALE:GREGORIAN
METHOD:PUBLISH
UID:fe8dab8f-6d97-41b2-b944-c51efa7b1a33
X-WR-CALDESC:
X-WR-RELCALID:5c6c33287b554c97cc84bfefc315ad4f
X-WR-TIMEZONE:America/New_York
BEGIN:VTIMEZONE
TZID:America/New_York
BEGIN:STANDARD
TZNAME:EST
DTSTART:20241103T020000
TZOFFSETFROM:-0400
TZOFFSETTO:-0500
RDATE:20251102T020000
END:STANDARD
BEGIN:DAYLIGHT
TZNAME:EDT
DTSTART:20250309T020000
TZOFFSETFROM:-0500
TZOFFSETTO:-0400
RDATE:20260308T020000
END:DAYLIGHT
END:VTIMEZONE
BEGIN:VEVENT
UID:bd226039-3bed-4fac-b210-78d9e7bc717c
DTSTAMP:20260423T121758Z
DESCRIPTION:
DTSTART;TZID=America/New_York:20250416T130000
DTEND;TZID=America/New_York:20250416T150000
LOCATION:
SUMMARY:Movies - Mufasa  (In Center)
END:VEVENT
END:VCALENDAR
