BEGIN:VCALENDAR
VERSION:2.0
PRODID:-//rssny.org//NONSGML kigkonsult.se iCalcreator 2.30.10//
CALSCALE:GREGORIAN
METHOD:PUBLISH
UID:b87d8c60-639d-4b81-b277-f5bcb4ca8db0
X-WR-CALDESC:
X-WR-RELCALID:f9521149b29672f920545675e87d3ddb
X-WR-TIMEZONE:America/New_York
BEGIN:VTIMEZONE
TZID:America/New_York
BEGIN:STANDARD
TZNAME:EST
DTSTART:20241103T020000
TZOFFSETFROM:-0400
TZOFFSETTO:-0500
RDATE:20251102T020000
END:STANDARD
BEGIN:DAYLIGHT
TZNAME:EDT
DTSTART:20250309T020000
TZOFFSETFROM:-0500
TZOFFSETTO:-0400
RDATE:20260308T020000
END:DAYLIGHT
END:VTIMEZONE
BEGIN:VEVENT
UID:f9208b79-d250-4f0c-9044-1c2511ed3b18
DTSTAMP:20260423T120245Z
DESCRIPTION:
DTSTART;TZID=America/New_York:20250415T090000
DTEND;TZID=America/New_York:20250415T113000
LOCATION:
SUMMARY:Bake Sale!
END:VEVENT
END:VCALENDAR
