BEGIN:VCALENDAR
VERSION:2.0
PRODID:-//rssny.org//NONSGML kigkonsult.se iCalcreator 2.30.10//
CALSCALE:GREGORIAN
METHOD:PUBLISH
UID:7f501c54-1674-4484-a90a-b71c5537f0b6
X-WR-CALDESC:
X-WR-RELCALID:aefcc505518554aedb5e3015831e4d06
X-WR-TIMEZONE:America/New_York
BEGIN:VTIMEZONE
TZID:America/New_York
BEGIN:STANDARD
TZNAME:EST
DTSTART:20241103T020000
TZOFFSETFROM:-0400
TZOFFSETTO:-0500
RDATE:20251102T020000
END:STANDARD
BEGIN:DAYLIGHT
TZNAME:EDT
DTSTART:20250309T020000
TZOFFSETFROM:-0500
TZOFFSETTO:-0400
RDATE:20260308T020000
END:DAYLIGHT
END:VTIMEZONE
BEGIN:VEVENT
UID:65744a44-3dd0-4ad6-ac24-e1c9d864308b
DTSTAMP:20260423T121357Z
DESCRIPTION:
DTSTART;TZID=America/New_York:20250409T130000
DTEND;TZID=America/New_York:20250409T150000
LOCATION:
SUMMARY:Movies - Unstoppable (In Center)
END:VEVENT
END:VCALENDAR
