BEGIN:VCALENDAR
VERSION:2.0
PRODID:-//rssny.org//NONSGML kigkonsult.se iCalcreator 2.30.10//
CALSCALE:GREGORIAN
METHOD:PUBLISH
UID:b9e2fbbe-2220-471c-8b28-ec57f1dbf134
X-WR-CALDESC:Join us for breakfast at the Center!
X-WR-RELCALID:b9d73468cdb629fba2b29d02e29d8a79
X-WR-TIMEZONE:America/New_York
BEGIN:VTIMEZONE
TZID:America/New_York
BEGIN:STANDARD
TZNAME:EST
DTSTART:20241103T020000
TZOFFSETFROM:-0400
TZOFFSETTO:-0500
RDATE:20251102T020000
END:STANDARD
BEGIN:DAYLIGHT
TZNAME:EDT
DTSTART:20250309T020000
TZOFFSETFROM:-0500
TZOFFSETTO:-0400
RDATE:20260308T020000
END:DAYLIGHT
END:VTIMEZONE
BEGIN:VEVENT
UID:ce48d311-6e64-4488-a5b0-4eece0d98ad6
DTSTAMP:20260423T120600Z
DESCRIPTION:Join us for breakfast at the Center!
DTSTART;TZID=America/New_York:20250409T090000
DTEND;TZID=America/New_York:20250409T100000
LOCATION:
SUMMARY:Breakfast Club (In Center)
END:VEVENT
END:VCALENDAR
