BEGIN:VCALENDAR
VERSION:2.0
PRODID:-//rssny.org//NONSGML kigkonsult.se iCalcreator 2.30.10//
CALSCALE:GREGORIAN
METHOD:PUBLISH
UID:78cba2da-9913-446d-bd51-c59689a54836
X-WR-CALDESC:To register: https://rssny.org/class-forms/trip-committee.html
 \n\nWe need your help planning trips that are engaging and relevant to the
  RSS community. Join the Trip Committee and contribute your ideas and plan
 ning skills.
X-WR-RELCALID:ee38ca8f01484cbe6a8c84d844654ca3
X-WR-TIMEZONE:America/New_York
BEGIN:VTIMEZONE
TZID:America/New_York
BEGIN:STANDARD
TZNAME:EST
DTSTART:20241103T020000
TZOFFSETFROM:-0400
TZOFFSETTO:-0500
RDATE:20251102T020000
END:STANDARD
BEGIN:DAYLIGHT
TZNAME:EDT
DTSTART:20250309T020000
TZOFFSETFROM:-0500
TZOFFSETTO:-0400
RDATE:20260308T020000
END:DAYLIGHT
END:VTIMEZONE
BEGIN:VEVENT
UID:503c98af-de10-4a6f-b6e0-bec22bd4e58d
DTSTAMP:20260423T120445Z
DESCRIPTION:To register: https://rssny.org/class-forms/trip-committee.html
 \n\nWe need your help planning trips that are engaging and relevant to the
  RSS community. Join the Trip Committee and contribute your ideas and plan
 ning skills.
DTSTART;TZID=America/New_York:20250408T100000
DTEND;TZID=America/New_York:20250408T110000
LOCATION:https://rssny.org/class-forms/trip-committee.html
SUMMARY:Trip Committee (Hybrid - C)
END:VEVENT
END:VCALENDAR
