BEGIN:VCALENDAR
VERSION:2.0
PRODID:-//rssny.org//NONSGML kigkonsult.se iCalcreator 2.30.10//
CALSCALE:GREGORIAN
METHOD:PUBLISH
UID:84c37ca4-378a-4079-9190-345af0376d3d
X-WR-CALDESC:REGISTER Here - https://rssny.org/class-forms/qi-gong-with-bru
 ce.html\n\n.
X-WR-RELCALID:4cdce00295560db5bebea54a3eced6ba
X-WR-TIMEZONE:America/New_York
BEGIN:VTIMEZONE
TZID:America/New_York
BEGIN:STANDARD
TZNAME:EST
DTSTART:20241103T020000
TZOFFSETFROM:-0400
TZOFFSETTO:-0500
RDATE:20251102T020000
END:STANDARD
BEGIN:DAYLIGHT
TZNAME:EDT
DTSTART:20250309T020000
TZOFFSETFROM:-0500
TZOFFSETTO:-0400
RDATE:20260308T020000
END:DAYLIGHT
END:VTIMEZONE
BEGIN:VEVENT
UID:12d36bd1-8fec-45d1-8ef4-f5c44b65eb02
DTSTAMP:20260423T120732Z
DESCRIPTION:REGISTER Here - https://rssny.org/class-forms/qi-gong-with-bruc
 e.html\n\n.
DTSTART;TZID=America/New_York:20250408T100000
DTEND;TZID=America/New_York:20250408T110000
LOCATION:https://rssny.org/class-forms/qi-gong-with-bruce.html
SUMMARY:Qi Gong with Bruce (HYBRID) - Instructor In Center
END:VEVENT
END:VCALENDAR
