BEGIN:VCALENDAR
VERSION:2.0
PRODID:-//rssny.org//NONSGML kigkonsult.se iCalcreator 2.30.10//
CALSCALE:GREGORIAN
METHOD:PUBLISH
UID:3fca1051-14b8-44a8-808f-16b03318c468
X-WR-CALDESC:Passover: The Barry Sisters\nhttps://en.wikipedia.org/wiki/The
 _Barry_Sisters
X-WR-RELCALID:5dce93f7256dd212fbd8b53182894455
X-WR-TIMEZONE:America/New_York
BEGIN:VTIMEZONE
TZID:America/New_York
BEGIN:STANDARD
TZNAME:EST
DTSTART:20241103T020000
TZOFFSETFROM:-0400
TZOFFSETTO:-0500
RDATE:20251102T020000
END:STANDARD
BEGIN:DAYLIGHT
TZNAME:EDT
DTSTART:20250309T020000
TZOFFSETFROM:-0500
TZOFFSETTO:-0400
RDATE:20260308T020000
END:DAYLIGHT
END:VTIMEZONE
BEGIN:VEVENT
UID:0eefd20f-4987-4305-a177-fafca91addd2
DTSTAMP:20260423T121407Z
DESCRIPTION:Passover: The Barry Sisters\nhttps://en.wikipedia.org/wiki/The_
 Barry_Sisters
DTSTART;TZID=America/New_York:20250406T160000
DTEND;TZID=America/New_York:20250406T171500
LOCATION:https://rssny.org/music_appreciation.html
SUMMARY:Music Appreciation with Diana: The Barry Sisters (Online)
END:VEVENT
END:VCALENDAR
