BEGIN:VCALENDAR
VERSION:2.0
PRODID:-//rssny.org//NONSGML kigkonsult.se iCalcreator 2.30.10//
CALSCALE:GREGORIAN
METHOD:PUBLISH
UID:bc1b7027-4d4d-40e7-aea5-13598939eeaa
X-WR-CALDESC:Enjoy an afternoon of theater! The JB Players\, a talented gro
 up of our community center members\, will perform a collection of short pl
 ays.
X-WR-RELCALID:ae87111517bc0008ffefbb87b8d0fb2e
X-WR-TIMEZONE:America/New_York
BEGIN:VTIMEZONE
TZID:America/New_York
BEGIN:STANDARD
TZNAME:EST
DTSTART:20241103T020000
TZOFFSETFROM:-0400
TZOFFSETTO:-0500
RDATE:20251102T020000
END:STANDARD
BEGIN:DAYLIGHT
TZNAME:EDT
DTSTART:20250309T020000
TZOFFSETFROM:-0500
TZOFFSETTO:-0400
RDATE:20260308T020000
END:DAYLIGHT
END:VTIMEZONE
BEGIN:VEVENT
UID:5729a629-f307-4c44-8662-6b4ee7b7d13d
DTSTAMP:20260423T120732Z
DESCRIPTION:Enjoy an afternoon of theater! The JB Players\, a talented grou
 p of our community center members\, will perform a collection of short pla
 ys.
DTSTART;TZID=America/New_York:20250402T133000
DTEND;TZID=America/New_York:20250402T143000
LOCATION:
SUMMARY:The JB Players presents: Vignettes from the Stage (In Center)
END:VEVENT
END:VCALENDAR
