BEGIN:VCALENDAR
VERSION:2.0
PRODID:-//rssny.org//NONSGML kigkonsult.se iCalcreator 2.30.10//
CALSCALE:GREGORIAN
METHOD:PUBLISH
UID:82e67889-d4b5-4a09-96d1-b001517666db
X-WR-CALDESC:https://rssny.org/class-forms/art-lectures-with-sylvia-meo.htm
 l\n\nJoin art historian and lecturer Sylvia Laudien Meo for a tour of the 
 masterpieces at the MOMA. You'll learn the stories and history behind thes
 e treasures with special emphasis on VanGogh's Starry Night.
X-WR-RELCALID:f0415769feb452be0c79a00ca462f674
X-WR-TIMEZONE:America/New_York
BEGIN:VTIMEZONE
TZID:America/New_York
BEGIN:STANDARD
TZNAME:EST
DTSTART:20241103T020000
TZOFFSETFROM:-0400
TZOFFSETTO:-0500
RDATE:20251102T020000
END:STANDARD
BEGIN:DAYLIGHT
TZNAME:EDT
DTSTART:20250309T020000
TZOFFSETFROM:-0500
TZOFFSETTO:-0400
RDATE:20260308T020000
END:DAYLIGHT
END:VTIMEZONE
BEGIN:VEVENT
UID:e7e13e3b-099e-419c-8d8c-2ff635545d12
DTSTAMP:20260423T134402Z
DESCRIPTION:https://rssny.org/class-forms/art-lectures-with-sylvia-meo.html
 \n\nJoin art historian and lecturer Sylvia Laudien Meo for a tour of the m
 asterpieces at the MOMA. You'll learn the stories and history behind these
  treasures with special emphasis on VanGogh's Starry Night.
DTSTART;TZID=America/New_York:20250327T160000
DTEND;TZID=America/New_York:20250327T173000
LOCATION:https://rssny.org/class-forms/art-lectures-with-sylvia-meo.html
SUMMARY:The Moon and Stars: Van Gogh's Starry Night and other masterpieces 
 at MoMA with Sylvia Laudien Meo (Online)
END:VEVENT
END:VCALENDAR
