BEGIN:VCALENDAR
VERSION:2.0
PRODID:-//rssny.org//NONSGML kigkonsult.se iCalcreator 2.30.10//
CALSCALE:GREGORIAN
METHOD:PUBLISH
UID:36c98759-da40-47df-bae1-85eb87a5dea4
X-WR-CALDESC:Join us for breakfast at the Center!
X-WR-RELCALID:26b3744f66e3999cc838baca54e2e91b
X-WR-TIMEZONE:America/New_York
BEGIN:VTIMEZONE
TZID:America/New_York
BEGIN:STANDARD
TZNAME:EST
DTSTART:20241103T020000
TZOFFSETFROM:-0400
TZOFFSETTO:-0500
RDATE:20251102T020000
END:STANDARD
BEGIN:DAYLIGHT
TZNAME:EDT
DTSTART:20250309T020000
TZOFFSETFROM:-0500
TZOFFSETTO:-0400
RDATE:20260308T020000
END:DAYLIGHT
END:VTIMEZONE
BEGIN:VEVENT
UID:9d141f3d-1e9e-4b88-ae68-b3b865bba6d2
DTSTAMP:20260423T133846Z
DESCRIPTION:Join us for breakfast at the Center!
DTSTART;TZID=America/New_York:20250326T090000
DTEND;TZID=America/New_York:20250326T100000
LOCATION:
SUMMARY:Breakfast Club (In Center)
END:VEVENT
END:VCALENDAR
