BEGIN:VCALENDAR
VERSION:2.0
PRODID:-//rssny.org//NONSGML kigkonsult.se iCalcreator 2.30.10//
CALSCALE:GREGORIAN
METHOD:PUBLISH
UID:5ca0da94-f1fb-4da1-922b-6a75a9fd301d
X-WR-CALDESC:
X-WR-RELCALID:cb0896336cbfc43a18f0c0c529eb49a0
X-WR-TIMEZONE:America/New_York
BEGIN:VTIMEZONE
TZID:America/New_York
BEGIN:STANDARD
TZNAME:EST
DTSTART:20241103T020000
TZOFFSETFROM:-0400
TZOFFSETTO:-0500
RDATE:20251102T020000
END:STANDARD
BEGIN:DAYLIGHT
TZNAME:EDT
DTSTART:20250309T020000
TZOFFSETFROM:-0500
TZOFFSETTO:-0400
RDATE:20260308T020000
END:DAYLIGHT
END:VTIMEZONE
BEGIN:VEVENT
UID:e31879a2-87ac-4675-8e27-0d9c93837eec
DTSTAMP:20260423T133810Z
DESCRIPTION:
DTSTART;TZID=America/New_York:20250325T130000
DTEND;TZID=America/New_York:20250325T140000
LOCATION:
SUMMARY:Memoirs & Poetry Open Mic (In Center)
END:VEVENT
END:VCALENDAR
