BEGIN:VCALENDAR
VERSION:2.0
PRODID:-//rssny.org//NONSGML kigkonsult.se iCalcreator 2.30.10//
CALSCALE:GREGORIAN
METHOD:PUBLISH
UID:76674ceb-c22d-4288-8949-87ae447c7f9b
X-WR-CALDESC:
X-WR-RELCALID:10e9728c4cc33f34147868e371c6eecd
X-WR-TIMEZONE:America/New_York
BEGIN:VTIMEZONE
TZID:America/New_York
BEGIN:STANDARD
TZNAME:EST
DTSTART:20241103T020000
TZOFFSETFROM:-0400
TZOFFSETTO:-0500
RDATE:20251102T020000
END:STANDARD
BEGIN:DAYLIGHT
TZNAME:EDT
DTSTART:20250309T020000
TZOFFSETFROM:-0500
TZOFFSETTO:-0400
RDATE:20260308T020000
END:DAYLIGHT
END:VTIMEZONE
BEGIN:VEVENT
UID:0f9bc522-1fe5-4ab0-87c1-9bb5d5cc3279
DTSTAMP:20260423T134041Z
DESCRIPTION:
DTSTART;TZID=America/New_York:20250325T100000
DTEND;TZID=America/New_York:20250325T110000
LOCATION:
SUMMARY:Memoir Writing with Donald (In Center)
END:VEVENT
END:VCALENDAR
