BEGIN:VCALENDAR
VERSION:2.0
PRODID:-//rssny.org//NONSGML kigkonsult.se iCalcreator 2.30.10//
CALSCALE:GREGORIAN
METHOD:PUBLISH
UID:df8167e9-b89c-4168-bf51-1caf0239ebb5
X-WR-CALDESC:
X-WR-RELCALID:b5694b17310d855ee3c5b8ac7519c9b1
X-WR-TIMEZONE:America/New_York
BEGIN:VTIMEZONE
TZID:America/New_York
BEGIN:STANDARD
TZNAME:EST
DTSTART:20241103T020000
TZOFFSETFROM:-0400
TZOFFSETTO:-0500
RDATE:20251102T020000
END:STANDARD
BEGIN:DAYLIGHT
TZNAME:EDT
DTSTART:20250309T020000
TZOFFSETFROM:-0500
TZOFFSETTO:-0400
RDATE:20260308T020000
END:DAYLIGHT
END:VTIMEZONE
BEGIN:VEVENT
UID:06987c6a-0c06-4282-a564-0a4a60bd7b31
DTSTAMP:20260423T133642Z
DESCRIPTION:
DTSTART;TZID=America/New_York:20250321T100000
DTEND;TZID=America/New_York:20250321T120000
LOCATION:No Registration Required
SUMMARY:NO STUDIO TODAY!  Sculpture Studio (IN CENTER)
END:VEVENT
END:VCALENDAR
