BEGIN:VCALENDAR
VERSION:2.0
PRODID:-//rssny.org//NONSGML kigkonsult.se iCalcreator 2.30.10//
CALSCALE:GREGORIAN
METHOD:PUBLISH
UID:09a88c54-7587-44ea-b81e-3f861d995f79
X-WR-CALDESC:
X-WR-RELCALID:ffae309571b234dd0831ea1ecb3403c9
X-WR-TIMEZONE:America/New_York
BEGIN:VTIMEZONE
TZID:America/New_York
BEGIN:STANDARD
TZNAME:EST
DTSTART:20241103T020000
TZOFFSETFROM:-0400
TZOFFSETTO:-0500
RDATE:20251102T020000
END:STANDARD
BEGIN:DAYLIGHT
TZNAME:EDT
DTSTART:20250309T020000
TZOFFSETFROM:-0500
TZOFFSETTO:-0400
RDATE:20260308T020000
END:DAYLIGHT
END:VTIMEZONE
BEGIN:VEVENT
UID:a6f77c06-a986-446f-a0a3-3f529f7d5e51
DTSTAMP:20260423T134111Z
DESCRIPTION:
DTSTART;TZID=America/New_York:20250319T130000
DTEND;TZID=America/New_York:20250319T140000
LOCATION:
SUMMARY:Concerts in Motion: Chinese (This is not an RSS event)
END:VEVENT
END:VCALENDAR
