BEGIN:VCALENDAR
VERSION:2.0
PRODID:-//rssny.org//NONSGML kigkonsult.se iCalcreator 2.30.10//
CALSCALE:GREGORIAN
METHOD:PUBLISH
UID:15fdca17-4129-4da6-9d1d-f578d6e826df
X-WR-CALDESC:
X-WR-RELCALID:83cdd36457ba176810a9c2afca7d4a33
X-WR-TIMEZONE:America/New_York
BEGIN:VTIMEZONE
TZID:America/New_York
BEGIN:STANDARD
TZNAME:EST
DTSTART:20241103T020000
TZOFFSETFROM:-0400
TZOFFSETTO:-0500
RDATE:20251102T020000
END:STANDARD
BEGIN:DAYLIGHT
TZNAME:EDT
DTSTART:20250309T020000
TZOFFSETFROM:-0500
TZOFFSETTO:-0400
RDATE:20260308T020000
END:DAYLIGHT
END:VTIMEZONE
BEGIN:VEVENT
UID:77a7c220-d492-45e4-a487-7fc67814667b
DTSTAMP:20260423T133449Z
DESCRIPTION:
DTSTART;TZID=America/New_York:20250318T083000
DTEND;TZID=America/New_York:20250318T120000
LOCATION:
SUMMARY:BAKE SALE
END:VEVENT
END:VCALENDAR
