BEGIN:VCALENDAR
VERSION:2.0
PRODID:-//rssny.org//NONSGML kigkonsult.se iCalcreator 2.30.10//
CALSCALE:GREGORIAN
METHOD:PUBLISH
UID:9806c4fd-8e5e-4437-861c-42b04c70a1b2
X-WR-CALDESC:Join us for breakfast at the Center!
X-WR-RELCALID:e445c4906334de01bbce2f4b778580c8
X-WR-TIMEZONE:America/New_York
BEGIN:VTIMEZONE
TZID:America/New_York
BEGIN:STANDARD
TZNAME:EST
DTSTART:20241103T020000
TZOFFSETFROM:-0400
TZOFFSETTO:-0500
RDATE:20251102T020000
END:STANDARD
BEGIN:DAYLIGHT
TZNAME:EDT
DTSTART:20250309T020000
TZOFFSETFROM:-0500
TZOFFSETTO:-0400
RDATE:20260308T020000
END:DAYLIGHT
END:VTIMEZONE
BEGIN:VEVENT
UID:16467cd6-c595-4bae-80f3-0890da76bdc2
DTSTAMP:20260423T133932Z
DESCRIPTION:Join us for breakfast at the Center!
DTSTART;TZID=America/New_York:20250312T090000
DTEND;TZID=America/New_York:20250312T100000
LOCATION:
SUMMARY:Breakfast Club (In Center)
END:VEVENT
END:VCALENDAR
