BEGIN:VCALENDAR
VERSION:2.0
PRODID:-//rssny.org//NONSGML kigkonsult.se iCalcreator 2.30.10//
CALSCALE:GREGORIAN
METHOD:PUBLISH
UID:79cec673-4912-4239-ace1-73c4c0cc1335
X-WR-CALDESC:TO REGISTER: Call 718.884.5900
X-WR-RELCALID:40a707c6a95f31ae47a9341a8fea0826
X-WR-TIMEZONE:America/New_York
BEGIN:VTIMEZONE
TZID:America/New_York
BEGIN:STANDARD
TZNAME:EST
DTSTART:20241103T020000
TZOFFSETFROM:-0400
TZOFFSETTO:-0500
RDATE:20251102T020000
END:STANDARD
BEGIN:DAYLIGHT
TZNAME:EDT
DTSTART:20240310T020000
TZOFFSETFROM:-0500
TZOFFSETTO:-0400
RDATE:20250309T020000
RDATE:20260308T020000
END:DAYLIGHT
END:VTIMEZONE
BEGIN:VEVENT
UID:29a19870-1cdd-4562-8dd5-835e084817c6
DTSTAMP:20260423T134209Z
DESCRIPTION:TO REGISTER: Call 718.884.5900
DTSTART;TZID=America/New_York:20250306T130000
DTEND;TZID=America/New_York:20250306T140000
LOCATION:TO REGISTER: Call 718.884.5900
SUMMARY:IN PERSON: Crafting with Recyclables with Susan Guzman
END:VEVENT
END:VCALENDAR
