BEGIN:VCALENDAR
VERSION:2.0
PRODID:-//rssny.org//NONSGML kigkonsult.se iCalcreator 2.30.10//
CALSCALE:GREGORIAN
METHOD:PUBLISH
UID:275035d7-df28-4a2a-839a-aa07e5c3b4c6
X-WR-CALDESC:This is a closed group. If you are interested in participating
 \, contact Social Worker Gigi Estevez ext. 25.
X-WR-RELCALID:5e1b21006f94da24dff69ed3c3c2c7e4
X-WR-TIMEZONE:America/New_York
BEGIN:VTIMEZONE
TZID:America/New_York
BEGIN:STANDARD
TZNAME:EST
DTSTART:20241103T020000
TZOFFSETFROM:-0400
TZOFFSETTO:-0500
RDATE:20251102T020000
END:STANDARD
BEGIN:DAYLIGHT
TZNAME:EDT
DTSTART:20240310T020000
TZOFFSETFROM:-0500
TZOFFSETTO:-0400
RDATE:20250309T020000
RDATE:20260308T020000
END:DAYLIGHT
END:VTIMEZONE
BEGIN:VEVENT
UID:a5db1039-6093-453e-beb0-cedd4b53a3dc
DTSTAMP:20260423T151725Z
DESCRIPTION:This is a closed group. If you are interested in participating\
 , contact Social Worker Gigi Estevez ext. 25.
DTSTART;TZID=America/New_York:20250227T130000
DTEND;TZID=America/New_York:20250227T140000
LOCATION:
SUMMARY:Social Action Committee (Hybrid)
END:VEVENT
END:VCALENDAR
