BEGIN:VCALENDAR
VERSION:2.0
PRODID:-//rssny.org//NONSGML kigkonsult.se iCalcreator 2.30.10//
CALSCALE:GREGORIAN
METHOD:PUBLISH
UID:3753843e-a1ed-4a38-a66a-038e46d305d8
X-WR-CALDESC:
X-WR-RELCALID:070b633d7dec960e43a946114d1e3efd
X-WR-TIMEZONE:America/New_York
BEGIN:VTIMEZONE
TZID:America/New_York
BEGIN:STANDARD
TZNAME:EST
DTSTART:20241103T020000
TZOFFSETFROM:-0400
TZOFFSETTO:-0500
RDATE:20251102T020000
END:STANDARD
BEGIN:DAYLIGHT
TZNAME:EDT
DTSTART:20240310T020000
TZOFFSETFROM:-0500
TZOFFSETTO:-0400
RDATE:20250309T020000
RDATE:20260308T020000
END:DAYLIGHT
END:VTIMEZONE
BEGIN:VEVENT
UID:a2e428c3-20e5-4c4a-84e9-b859974d91fd
DTSTAMP:20260423T151723Z
DESCRIPTION:
DTSTART;TZID=America/New_York:20250224T130000
DTEND;TZID=America/New_York:20250224T140000
LOCATION:
SUMMARY:Current Events with Tim (In Center)
END:VEVENT
END:VCALENDAR
