BEGIN:VCALENDAR
VERSION:2.0
PRODID:-//rssny.org//NONSGML kigkonsult.se iCalcreator 2.30.10//
CALSCALE:GREGORIAN
METHOD:PUBLISH
UID:79d210c8-f0d3-4c40-ba4b-03bfbb1bfe4c
X-WR-CALDESC:Weekly non-competitive bridge game
X-WR-RELCALID:bf4d249c3a68880b452307c2f4b925bb
X-WR-TIMEZONE:America/New_York
BEGIN:VTIMEZONE
TZID:America/New_York
BEGIN:STANDARD
TZNAME:EST
DTSTART:20241103T020000
TZOFFSETFROM:-0400
TZOFFSETTO:-0500
RDATE:20251102T020000
END:STANDARD
BEGIN:DAYLIGHT
TZNAME:EDT
DTSTART:20240310T020000
TZOFFSETFROM:-0500
TZOFFSETTO:-0400
RDATE:20250309T020000
RDATE:20260308T020000
END:DAYLIGHT
END:VTIMEZONE
BEGIN:VEVENT
UID:737a28ed-b0fa-4dc3-af5e-572274c530da
DTSTAMP:20260423T151729Z
DESCRIPTION:Weekly non-competitive bridge game
DTSTART;TZID=America/New_York:20250221T140000
DTEND;TZID=America/New_York:20250221T163000
LOCATION:
SUMMARY:Leisure Games Bridge (In Center)
END:VEVENT
END:VCALENDAR
