BEGIN:VCALENDAR
VERSION:2.0
PRODID:-//rssny.org//NONSGML kigkonsult.se iCalcreator 2.30.10//
CALSCALE:GREGORIAN
METHOD:PUBLISH
UID:9956c8dc-15d7-4036-87c8-097ffa7b54e4
X-WR-CALDESC:
X-WR-RELCALID:3db2c3358cdb96776d9e114115d10625
X-WR-TIMEZONE:America/New_York
BEGIN:VTIMEZONE
TZID:America/New_York
BEGIN:STANDARD
TZNAME:EST
DTSTART:20241103T020000
TZOFFSETFROM:-0400
TZOFFSETTO:-0500
RDATE:20251102T020000
END:STANDARD
BEGIN:DAYLIGHT
TZNAME:EDT
DTSTART:20240310T020000
TZOFFSETFROM:-0500
TZOFFSETTO:-0400
RDATE:20250309T020000
RDATE:20260308T020000
END:DAYLIGHT
END:VTIMEZONE
BEGIN:VEVENT
UID:c42b40a6-af44-4246-b4d7-1649f41a68f0
DTSTAMP:20260423T152003Z
DESCRIPTION:
DTSTART;TZID=America/New_York:20250219T130000
DTEND;TZID=America/New_York:20250219T150000
LOCATION:
SUMMARY:Movie: Emilia Pérez
END:VEVENT
END:VCALENDAR
