BEGIN:VCALENDAR
VERSION:2.0
PRODID:-//rssny.org//NONSGML kigkonsult.se iCalcreator 2.30.10//
CALSCALE:GREGORIAN
METHOD:PUBLISH
UID:926d130d-f660-4113-8daf-d405c81c832c
X-WR-CALDESC:
X-WR-RELCALID:9e2ec2b53951fd880ad9b3649911f723
X-WR-TIMEZONE:America/New_York
BEGIN:VTIMEZONE
TZID:America/New_York
BEGIN:STANDARD
TZNAME:EST
DTSTART:20241103T020000
TZOFFSETFROM:-0400
TZOFFSETTO:-0500
RDATE:20251102T020000
END:STANDARD
BEGIN:DAYLIGHT
TZNAME:EDT
DTSTART:20240310T020000
TZOFFSETFROM:-0500
TZOFFSETTO:-0400
RDATE:20250309T020000
RDATE:20260308T020000
END:DAYLIGHT
END:VTIMEZONE
BEGIN:VEVENT
UID:c1ac8dd2-0c65-436f-97df-14e616213475
DTSTAMP:20260423T151619Z
DESCRIPTION:
DTSTART;TZID=America/New_York:20250218T170000
DTEND;TZID=America/New_York:20250218T180000
LOCATION:
SUMMARY:Phoenix Museum Placeholder
END:VEVENT
END:VCALENDAR
