BEGIN:VCALENDAR
VERSION:2.0
PRODID:-//rssny.org//NONSGML kigkonsult.se iCalcreator 2.30.10//
CALSCALE:GREGORIAN
METHOD:PUBLISH
UID:9f8ef841-176b-435e-8cf8-0b718569cf3c
X-WR-CALDESC:
X-WR-RELCALID:a60d618a07e22945b1cd469985122976
X-WR-TIMEZONE:America/New_York
BEGIN:VTIMEZONE
TZID:America/New_York
BEGIN:STANDARD
TZNAME:EST
DTSTART:20241103T020000
TZOFFSETFROM:-0400
TZOFFSETTO:-0500
RDATE:20251102T020000
END:STANDARD
BEGIN:DAYLIGHT
TZNAME:EDT
DTSTART:20240310T020000
TZOFFSETFROM:-0500
TZOFFSETTO:-0400
RDATE:20250309T020000
RDATE:20260308T020000
END:DAYLIGHT
END:VTIMEZONE
BEGIN:VEVENT
UID:1d32a703-f8fd-4474-9ff5-b6444729adda
DTSTAMP:20260423T151726Z
DESCRIPTION:
DTSTART;TZID=America/New_York:20250218T100000
DTEND;TZID=America/New_York:20250218T120000
LOCATION:
SUMMARY:Bake Sale (in Center)
END:VEVENT
END:VCALENDAR
