BEGIN:VCALENDAR
VERSION:2.0
PRODID:-//rssny.org//NONSGML kigkonsult.se iCalcreator 2.30.10//
CALSCALE:GREGORIAN
METHOD:PUBLISH
UID:e0ad4325-32b1-48b1-ac6a-b45784d3cc9f
X-WR-CALDESC:Laughter is the best medicine! Studies show that even spontane
 ous laughter offers incredible health benefits.\n\nJoin us for a fun-fille
 d session of Laughing Exercises!\n\nSpecial guests: The Kindergarten class
  from Kinneret will inspire us with their infectious laughter and show us 
 how to embrace the joy of pure\, unadulterated giggles.'
X-WR-RELCALID:5df91954f239a48387f6cf1fbe3e8863
X-WR-TIMEZONE:America/New_York
BEGIN:VTIMEZONE
TZID:America/New_York
BEGIN:STANDARD
TZNAME:EST
DTSTART:20241103T020000
TZOFFSETFROM:-0400
TZOFFSETTO:-0500
RDATE:20251102T020000
END:STANDARD
BEGIN:DAYLIGHT
TZNAME:EDT
DTSTART:20240310T020000
TZOFFSETFROM:-0500
TZOFFSETTO:-0400
RDATE:20250309T020000
RDATE:20260308T020000
END:DAYLIGHT
END:VTIMEZONE
BEGIN:VEVENT
UID:8d68b305-d81b-4e33-b095-cec46bcd8bbe
DTSTAMP:20260423T152131Z
DESCRIPTION:Laughter is the best medicine! Studies show that even spontaneo
 us laughter offers incredible health benefits.\n\nJoin us for a fun-filled
  session of Laughing Exercises!\n\nSpecial guests: The Kindergarten class 
 from Kinneret will inspire us with their infectious laughter and show us h
 ow to embrace the joy of pure\, unadulterated giggles.'
DTSTART;TZID=America/New_York:20250214T110000
DTEND;TZID=America/New_York:20250214T114500
LOCATION:
SUMMARY:Laughing Yoga with Kinneret: Laugh like a Kindergartener (Hybrid)
END:VEVENT
END:VCALENDAR
