BEGIN:VCALENDAR
VERSION:2.0
PRODID:-//rssny.org//NONSGML kigkonsult.se iCalcreator 2.30.10//
CALSCALE:GREGORIAN
METHOD:PUBLISH
UID:786a99a0-9a26-4832-839f-af70e0bb14a1
X-WR-CALDESC:
X-WR-RELCALID:c171359a4fc42d47c68ed52d4a465774
X-WR-TIMEZONE:America/New_York
BEGIN:VTIMEZONE
TZID:America/New_York
BEGIN:STANDARD
TZNAME:EST
DTSTART:20241103T020000
TZOFFSETFROM:-0400
TZOFFSETTO:-0500
RDATE:20251102T020000
END:STANDARD
BEGIN:DAYLIGHT
TZNAME:EDT
DTSTART:20240310T020000
TZOFFSETFROM:-0500
TZOFFSETTO:-0400
RDATE:20250309T020000
RDATE:20260308T020000
END:DAYLIGHT
END:VTIMEZONE
BEGIN:VEVENT
UID:c947d846-2db3-42e0-a033-c8edc7bd5185
DTSTAMP:20260423T151622Z
DESCRIPTION:
DTSTART;TZID=America/New_York:20250211T130000
DTEND;TZID=America/New_York:20250211T140000
LOCATION:
SUMMARY:Bingo
END:VEVENT
END:VCALENDAR
