BEGIN:VCALENDAR
VERSION:2.0
PRODID:-//rssny.org//NONSGML kigkonsult.se iCalcreator 2.30.10//
CALSCALE:GREGORIAN
METHOD:PUBLISH
UID:bada6a2f-2b1b-47bf-bdc1-11c084c2e83a
X-WR-CALDESC:Register here - https://rssny.org/class-forms/concerts-in-moti
 on.html
X-WR-RELCALID:fb54e4fd4a7ab45f997703704fb93119
X-WR-TIMEZONE:America/New_York
BEGIN:VTIMEZONE
TZID:America/New_York
BEGIN:STANDARD
TZNAME:EST
DTSTART:20241103T020000
TZOFFSETFROM:-0400
TZOFFSETTO:-0500
RDATE:20251102T020000
END:STANDARD
BEGIN:DAYLIGHT
TZNAME:EDT
DTSTART:20240310T020000
TZOFFSETFROM:-0500
TZOFFSETTO:-0400
RDATE:20250309T020000
RDATE:20260308T020000
END:DAYLIGHT
END:VTIMEZONE
BEGIN:VEVENT
UID:36424cca-01db-4427-8a43-949c716650ee
DTSTAMP:20260423T152304Z
DESCRIPTION:Register here - https://rssny.org/class-forms/concerts-in-motio
 n.html
DTSTART;TZID=America/New_York:20250211T120000
DTEND;TZID=America/New_York:20250211T130000
LOCATION:https://rssny.org/class-forms/concerts-in-motion.html
SUMMARY:Concerts in Motion: Songbook Tuesdays (This is not an RSS event)
END:VEVENT
END:VCALENDAR
