BEGIN:VCALENDAR
VERSION:2.0
PRODID:-//rssny.org//NONSGML kigkonsult.se iCalcreator 2.30.10//
CALSCALE:GREGORIAN
METHOD:PUBLISH
UID:b63ba2e2-10e7-4e91-9f5e-534b2eb28551
X-WR-CALDESC:
X-WR-RELCALID:a2c64a980614559fcf1e126430b58961
X-WR-TIMEZONE:America/New_York
BEGIN:VTIMEZONE
TZID:America/New_York
BEGIN:STANDARD
TZNAME:EST
DTSTART:20241103T020000
TZOFFSETFROM:-0400
TZOFFSETTO:-0500
RDATE:20251102T020000
END:STANDARD
BEGIN:DAYLIGHT
TZNAME:EDT
DTSTART:20240310T020000
TZOFFSETFROM:-0500
TZOFFSETTO:-0400
RDATE:20250309T020000
RDATE:20260308T020000
END:DAYLIGHT
END:VTIMEZONE
BEGIN:VEVENT
UID:db3d7515-ff5e-4f67-a79c-afc182b25f8a
DTSTAMP:20260423T152008Z
DESCRIPTION:
DTSTART;TZID=America/New_York:20250205T143000
DTEND;TZID=America/New_York:20250205T160000
LOCATION:
SUMMARY:Movie: The Six Triple Eight (In Center)
END:VEVENT
END:VCALENDAR
