BEGIN:VCALENDAR
VERSION:2.0
PRODID:-//rssny.org//NONSGML kigkonsult.se iCalcreator 2.30.10//
CALSCALE:GREGORIAN
METHOD:PUBLISH
UID:e06f29ff-cbed-4b15-8351-35cf97e79bf7
X-WR-CALDESC:Join us for a special presentation by RSS members and learn th
 e background of Black History Month with presentations on noted icons such
  as George Washington Carver and Althea Gibson
X-WR-RELCALID:1bd9e75d438b08fb352085fa0bbdd47a
X-WR-TIMEZONE:America/New_York
BEGIN:VTIMEZONE
TZID:America/New_York
BEGIN:STANDARD
TZNAME:EST
DTSTART:20241103T020000
TZOFFSETFROM:-0400
TZOFFSETTO:-0500
RDATE:20251102T020000
END:STANDARD
BEGIN:DAYLIGHT
TZNAME:EDT
DTSTART:20240310T020000
TZOFFSETFROM:-0500
TZOFFSETTO:-0400
RDATE:20250309T020000
RDATE:20260308T020000
END:DAYLIGHT
END:VTIMEZONE
BEGIN:VEVENT
UID:a582b849-594f-4fa0-92e4-0ccd31c96d4e
DTSTAMP:20260423T151724Z
DESCRIPTION:Join us for a special presentation by RSS members and learn the
  background of Black History Month with presentations on noted icons such 
 as George Washington Carver and Althea Gibson
DTSTART;TZID=America/New_York:20250205T131500
DTEND;TZID=America/New_York:20250205T143000
LOCATION:2600 Netherland Avenue\, bronx\, AL 10463 US
SUMMARY:Black History Month Presentation (Hybrid)
END:VEVENT
END:VCALENDAR
