BEGIN:VCALENDAR
VERSION:2.0
PRODID:-//rssny.org//NONSGML kigkonsult.se iCalcreator 2.30.10//
CALSCALE:GREGORIAN
METHOD:PUBLISH
UID:2699b5a3-1941-4f63-a60d-9999b09b96a7
X-WR-CALDESC:If you are interested in joining this group send an email to i
 nfo@rssny.org or call 718.884.5900
X-WR-RELCALID:ba5710505a0bbc5137e8448e5d682b15
X-WR-TIMEZONE:America/New_York
BEGIN:VTIMEZONE
TZID:America/New_York
BEGIN:STANDARD
TZNAME:EST
DTSTART:20241103T020000
TZOFFSETFROM:-0400
TZOFFSETTO:-0500
RDATE:20251102T020000
END:STANDARD
BEGIN:DAYLIGHT
TZNAME:EDT
DTSTART:20240310T020000
TZOFFSETFROM:-0500
TZOFFSETTO:-0400
RDATE:20250309T020000
RDATE:20260308T020000
END:DAYLIGHT
END:VTIMEZONE
BEGIN:VEVENT
UID:c62f180f-6264-437d-af20-3733614c058b
DTSTAMP:20260423T151723Z
DESCRIPTION:If you are interested in joining this group send an email to in
 fo@rssny.org or call 718.884.5900
DTSTART;TZID=America/New_York:20250205T130000
DTEND;TZID=America/New_York:20250205T140000
LOCATION:
SUMMARY:Caregivers Support Group  (Hybrid)
END:VEVENT
END:VCALENDAR
