BEGIN:VCALENDAR
VERSION:2.0
PRODID:-//rssny.org//NONSGML kigkonsult.se iCalcreator 2.30.10//
CALSCALE:GREGORIAN
METHOD:PUBLISH
UID:08f89c5c-a588-4f6d-9991-2e19d37fe995
X-WR-CALDESC:
X-WR-RELCALID:0e1c3cf79e59c8fa5b75e1d24296e15c
X-WR-TIMEZONE:America/New_York
BEGIN:VTIMEZONE
TZID:America/New_York
BEGIN:STANDARD
TZNAME:EST
DTSTART:20241103T020000
TZOFFSETFROM:-0400
TZOFFSETTO:-0500
RDATE:20251102T020000
END:STANDARD
BEGIN:DAYLIGHT
TZNAME:EDT
DTSTART:20240310T020000
TZOFFSETFROM:-0500
TZOFFSETTO:-0400
RDATE:20250309T020000
RDATE:20260308T020000
END:DAYLIGHT
END:VTIMEZONE
BEGIN:VEVENT
UID:a79a9359-e09a-4c36-aa09-0b91ee730d5f
DTSTAMP:20260423T170534Z
DESCRIPTION:
DTSTART;TZID=America/New_York:20250129T103000
DTEND;TZID=America/New_York:20250129T113000
LOCATION:
SUMMARY:Art Deco Society of NY Grand Intentions:  Innovative  & Affordable 
 Housing for All (Hybrid - Presenter Online)
END:VEVENT
END:VCALENDAR
