BEGIN:VCALENDAR
VERSION:2.0
PRODID:-//rssny.org//NONSGML kigkonsult.se iCalcreator 2.30.10//
CALSCALE:GREGORIAN
METHOD:PUBLISH
UID:677e3d4d-c1ec-469f-8093-4ccf92b76e9c
X-WR-CALDESC:
X-WR-RELCALID:e7202da763514e9988d1a3c185255266
X-WR-TIMEZONE:America/New_York
BEGIN:VTIMEZONE
TZID:America/New_York
BEGIN:STANDARD
TZNAME:EST
DTSTART:20241103T020000
TZOFFSETFROM:-0400
TZOFFSETTO:-0500
RDATE:20251102T020000
END:STANDARD
BEGIN:DAYLIGHT
TZNAME:EDT
DTSTART:20240310T020000
TZOFFSETFROM:-0500
TZOFFSETTO:-0400
RDATE:20250309T020000
RDATE:20260308T020000
END:DAYLIGHT
END:VTIMEZONE
BEGIN:VEVENT
UID:2728fa71-7938-4926-9b5e-44a8ef0a7ba5
DTSTAMP:20260423T165652Z
DESCRIPTION:
DTSTART;TZID=America/New_York:20250129T130000
DTEND;TZID=America/New_York:20250129T150000
LOCATION:
SUMMARY:Movies In Center: Conclave
END:VEVENT
END:VCALENDAR
