BEGIN:VCALENDAR
VERSION:2.0
PRODID:-//rssny.org//NONSGML kigkonsult.se iCalcreator 2.30.10//
CALSCALE:GREGORIAN
METHOD:PUBLISH
UID:8f58d0b8-521a-48b4-8e29-0a1dcc372bca
X-WR-CALDESC:Join Barbara Denson for a monthly workshop about all things pl
 ant-related. Each month will be something new\, whether learning about var
 ious plants and plant care or engaging in fun craft projects related to th
 em.
X-WR-RELCALID:1076561f3459d1fd552bad2465cfcf06
X-WR-TIMEZONE:America/New_York
BEGIN:VTIMEZONE
TZID:America/New_York
BEGIN:STANDARD
TZNAME:EST
DTSTART:20241103T020000
TZOFFSETFROM:-0400
TZOFFSETTO:-0500
RDATE:20251102T020000
END:STANDARD
BEGIN:DAYLIGHT
TZNAME:EDT
DTSTART:20240310T020000
TZOFFSETFROM:-0500
TZOFFSETTO:-0400
RDATE:20250309T020000
RDATE:20260308T020000
END:DAYLIGHT
END:VTIMEZONE
BEGIN:VEVENT
UID:40b2b981-3ac7-49a9-b4bf-a513fe873c15
DTSTAMP:20260423T170255Z
DESCRIPTION:Join Barbara Denson for a monthly workshop about all things pla
 nt-related. Each month will be something new\, whether learning about vari
 ous plants and plant care or engaging in fun craft projects related to the
 m.
DTSTART;TZID=America/New_York:20250127T141500
DTEND;TZID=America/New_York:20250127T151500
LOCATION:
SUMMARY:Horticultural Wellness Workshops with Barbara: Hand Cream & Face Sc
 rubs (In House)
END:VEVENT
END:VCALENDAR
