BEGIN:VCALENDAR
VERSION:2.0
PRODID:-//rssny.org//NONSGML kigkonsult.se iCalcreator 2.30.10//
CALSCALE:GREGORIAN
METHOD:PUBLISH
UID:7eb4facc-603c-47de-92d3-a79f19291b40
X-WR-CALDESC:Weekly non-competitive bridge game
X-WR-RELCALID:a300c6d81ef0a8fc06402c15b4a68994
X-WR-TIMEZONE:America/New_York
BEGIN:VTIMEZONE
TZID:America/New_York
BEGIN:STANDARD
TZNAME:EST
DTSTART:20241103T020000
TZOFFSETFROM:-0400
TZOFFSETTO:-0500
RDATE:20251102T020000
END:STANDARD
BEGIN:DAYLIGHT
TZNAME:EDT
DTSTART:20240310T020000
TZOFFSETFROM:-0500
TZOFFSETTO:-0400
RDATE:20250309T020000
RDATE:20260308T020000
END:DAYLIGHT
END:VTIMEZONE
BEGIN:VEVENT
UID:4ba20e92-98ac-4936-9c3e-ae5fbe7d61ef
DTSTAMP:20260423T165035Z
DESCRIPTION:Weekly non-competitive bridge game
DTSTART;TZID=America/New_York:20250124T140000
DTEND;TZID=America/New_York:20250124T163000
LOCATION:
SUMMARY:Leisure Games Bridge (In Center)
END:VEVENT
END:VCALENDAR
