BEGIN:VCALENDAR
VERSION:2.0
PRODID:-//rssny.org//NONSGML kigkonsult.se iCalcreator 2.30.10//
CALSCALE:GREGORIAN
METHOD:PUBLISH
UID:a13d122d-bdc7-4c76-abd1-bbc6693e82eb
X-WR-CALDESC:Space is limited. \n\nIf interested\, contact Social Work Inte
 rn: Jane Matluck\, Social Work\, intern\nCall: 718-884-5900\nEmail: jmatlu
 ck@rssny.org
X-WR-RELCALID:d67b117a6ee3d2cfbb5e137b6e13ccfd
X-WR-TIMEZONE:America/New_York
BEGIN:VTIMEZONE
TZID:America/New_York
BEGIN:STANDARD
TZNAME:EST
DTSTART:20241103T020000
TZOFFSETFROM:-0400
TZOFFSETTO:-0500
RDATE:20251102T020000
END:STANDARD
BEGIN:DAYLIGHT
TZNAME:EDT
DTSTART:20240310T020000
TZOFFSETFROM:-0500
TZOFFSETTO:-0400
RDATE:20250309T020000
RDATE:20260308T020000
END:DAYLIGHT
END:VTIMEZONE
BEGIN:VEVENT
UID:fd196ed7-ae36-428b-9646-0cd314637e67
DTSTAMP:20260423T170220Z
DESCRIPTION:Space is limited. \n\nIf interested\, contact Social Work Inter
 n: Jane Matluck\, Social Work\, intern\nCall: 718-884-5900\nEmail: jmatluc
 k@rssny.org
DTSTART;TZID=America/New_York:20250122T150000
DTEND;TZID=America/New_York:20250122T160000
LOCATION:
SUMMARY:Grief Group: Loss of Child (In-Center only) CANCELED
END:VEVENT
END:VCALENDAR
