BEGIN:VCALENDAR
VERSION:2.0
PRODID:-//rssny.org//NONSGML kigkonsult.se iCalcreator 2.30.10//
CALSCALE:GREGORIAN
METHOD:PUBLISH
UID:84f018e6-b384-44a9-bbc2-0114314762c6
X-WR-CALDESC:
X-WR-RELCALID:57afd584a01e9a03e17c8fd1d8c43494
X-WR-TIMEZONE:America/New_York
BEGIN:VTIMEZONE
TZID:America/New_York
BEGIN:STANDARD
TZNAME:EST
DTSTART:20241103T020000
TZOFFSETFROM:-0400
TZOFFSETTO:-0500
RDATE:20251102T020000
END:STANDARD
BEGIN:DAYLIGHT
TZNAME:EDT
DTSTART:20240310T020000
TZOFFSETFROM:-0500
TZOFFSETTO:-0400
RDATE:20250309T020000
RDATE:20260308T020000
END:DAYLIGHT
END:VTIMEZONE
BEGIN:VEVENT
UID:b5b9030c-fb52-49cd-9d3f-05441c567c8e
DTSTAMP:20260423T164840Z
DESCRIPTION:
DTSTART;TZID=America/New_York:20250121T100000
DTEND;TZID=America/New_York:20250121T110000
LOCATION:
SUMMARY:Memoir Writing with Donald
END:VEVENT
END:VCALENDAR
