BEGIN:VCALENDAR
VERSION:2.0
PRODID:-//rssny.org//NONSGML kigkonsult.se iCalcreator 2.30.10//
CALSCALE:GREGORIAN
METHOD:PUBLISH
UID:c8855d4a-7e66-43a0-8fa4-2aa4b8cd8553
X-WR-CALDESC:Join us for breakfast at the Center!
X-WR-RELCALID:79b609921c6e15c438bad250a7b8794a
X-WR-TIMEZONE:America/New_York
BEGIN:VTIMEZONE
TZID:America/New_York
BEGIN:STANDARD
TZNAME:EST
DTSTART:20241103T020000
TZOFFSETFROM:-0400
TZOFFSETTO:-0500
RDATE:20251102T020000
END:STANDARD
BEGIN:DAYLIGHT
TZNAME:EDT
DTSTART:20240310T020000
TZOFFSETFROM:-0500
TZOFFSETTO:-0400
RDATE:20250309T020000
RDATE:20260308T020000
END:DAYLIGHT
END:VTIMEZONE
BEGIN:VEVENT
UID:15eb4a93-7131-41a1-9d73-717d7df7c4ba
DTSTAMP:20260423T165519Z
DESCRIPTION:Join us for breakfast at the Center!
DTSTART;TZID=America/New_York:20250115T090000
DTEND;TZID=America/New_York:20250115T100000
LOCATION:
SUMMARY:Breakfast Club (In Center)
END:VEVENT
END:VCALENDAR
