BEGIN:VCALENDAR
VERSION:2.0
PRODID:-//rssny.org//NONSGML kigkonsult.se iCalcreator 2.30.10//
CALSCALE:GREGORIAN
METHOD:PUBLISH
UID:8d014abf-3d15-42ab-8e4b-631f57e7e57a
X-WR-CALDESC:Click Here to Register - https://rssny.org/class-forms/concert
 s-in-motion.html\n
X-WR-RELCALID:ecc56e3c789c9994913d2ef49a5fad97
X-WR-TIMEZONE:America/New_York
BEGIN:VTIMEZONE
TZID:America/New_York
BEGIN:STANDARD
TZNAME:EST
DTSTART:20241103T020000
TZOFFSETFROM:-0400
TZOFFSETTO:-0500
RDATE:20251102T020000
END:STANDARD
BEGIN:DAYLIGHT
TZNAME:EDT
DTSTART:20240310T020000
TZOFFSETFROM:-0500
TZOFFSETTO:-0400
RDATE:20250309T020000
RDATE:20260308T020000
END:DAYLIGHT
END:VTIMEZONE
BEGIN:VEVENT
UID:6ae46322-96de-4d6a-bbeb-41460f5bd52d
DTSTAMP:20260423T165814Z
DESCRIPTION:Click Here to Register - https://rssny.org/class-forms/concerts
 -in-motion.html\n
DTSTART;TZID=America/New_York:20250109T130000
DTEND;TZID=America/New_York:20250109T140000
LOCATION:https://rssny.org/class-forms/concerts-in-motion.html
SUMMARY:Concerts in Motion: Coffehouse Thursdays- NOT AN RSS PROGRAM)
END:VEVENT
END:VCALENDAR
